	  BEGIN:VCALENDAR
VERSION:2.0
PRODID:spatie/icalendar-generator
DESCRIPTION:Events from OberaOnline
X-WR-CALDESC:Events from OberaOnline
REFRESH-INTERVAL;VALUE=DURATION:PT1440M
X-PUBLISHED-TTL:PT1440M
BEGIN:VTIMEZONE
TZID:America/Argentina/Buenos_Aires
BEGIN:STANDARD
DTSTART:20220102T000000Z
TZOFFSETFROM:-0300
TZOFFSETTO:-0300
END:STANDARD
END:VTIMEZONE
BEGIN:VTIMEZONE
TZID:UTC
BEGIN:STANDARD
DTSTART:20250724T231703Z
TZOFFSETFROM:+0000
TZOFFSETTO:+0000
END:STANDARD
END:VTIMEZONE
BEGIN:VEVENT
UID:779-778
DTSTAMP:20260420T231703Z
SUMMARY:Los Ángeles (José Ing. 402 – Tel: 407899)
LOCATION:
ORGANIZER;CN=admin:MAILTO:sergiosedoff@gmail.com
DTSTART;TZID=America/Argentina/Buenos_Aires;VALUE=DATE:20220929
DTEND;TZID=America/Argentina/Buenos_Aires;VALUE=DATE:20220930
X-ALT-DESC;FMTTYPE=TEXT/HTML:
CATEGORIES:Farmacias
URL;VALUE=URI:https://oberaonline.com.ar/my-calendar/?mc_id=779&#038;vcal=7
 79
METHOD:PUBLISH
END:VEVENT
END:VCALENDAR