	  BEGIN:VCALENDAR
VERSION:2.0
PRODID:spatie/icalendar-generator
DESCRIPTION:Events from OberaOnline
X-WR-CALDESC:Events from OberaOnline
REFRESH-INTERVAL;VALUE=DURATION:PT1440M
X-PUBLISHED-TTL:PT1440M
BEGIN:VTIMEZONE
TZID:America/Argentina/Buenos_Aires
BEGIN:STANDARD
DTSTART:20191211T000000Z
TZOFFSETFROM:-0300
TZOFFSETTO:-0300
END:STANDARD
END:VTIMEZONE
BEGIN:VTIMEZONE
TZID:UTC
BEGIN:STANDARD
DTSTART:20250729T201414Z
TZOFFSETFROM:+0000
TZOFFSETTO:+0000
END:STANDARD
END:VTIMEZONE
BEGIN:VEVENT
UID:24-23
DTSTAMP:20260425T201414Z
SUMMARY:Eurosalud I(Santa Fe 146–Tel:407918)
LOCATION:
ORGANIZER;CN=admin:MAILTO:sergiosedoff@gmail.com
DTSTART;TZID=America/Argentina/Buenos_Aires;VALUE=DATE:20200906
DTEND;TZID=America/Argentina/Buenos_Aires;VALUE=DATE:20200907
X-ALT-DESC;FMTTYPE=TEXT/HTML:
CATEGORIES:Farmacias
URL;VALUE=URI:https://oberaonline.com.ar/my-calendar/?mc_id=24&#038;vcal=24
METHOD:PUBLISH
END:VEVENT
END:VCALENDAR